BEGIN:VCALENDAR
VERSION:2.0
PRODID:-//Koski - ECPv6.15.20//NONSGML v1.0//EN
CALSCALE:GREGORIAN
METHOD:PUBLISH
X-WR-CALNAME:Koski
X-ORIGINAL-URL:https://koski.fi
X-WR-CALDESC:Tapahtumat Koski
REFRESH-INTERVAL;VALUE=DURATION:PT1H
X-Robots-Tag:noindex
X-PUBLISHED-TTL:PT1H
BEGIN:VTIMEZONE
TZID:Europe/Helsinki
BEGIN:DAYLIGHT
TZOFFSETFROM:+0200
TZOFFSETTO:+0300
TZNAME:EEST
DTSTART:20250330T010000
END:DAYLIGHT
BEGIN:STANDARD
TZOFFSETFROM:+0300
TZOFFSETTO:+0200
TZNAME:EET
DTSTART:20251026T010000
END:STANDARD
BEGIN:DAYLIGHT
TZOFFSETFROM:+0200
TZOFFSETTO:+0300
TZNAME:EEST
DTSTART:20260329T010000
END:DAYLIGHT
BEGIN:STANDARD
TZOFFSETFROM:+0300
TZOFFSETTO:+0200
TZNAME:EET
DTSTART:20261025T010000
END:STANDARD
BEGIN:DAYLIGHT
TZOFFSETFROM:+0200
TZOFFSETTO:+0300
TZNAME:EEST
DTSTART:20270328T010000
END:DAYLIGHT
BEGIN:STANDARD
TZOFFSETFROM:+0300
TZOFFSETTO:+0200
TZNAME:EET
DTSTART:20271031T010000
END:STANDARD
END:VTIMEZONE
BEGIN:VEVENT
DTSTART;VALUE=DATE:20260215
DTEND;VALUE=DATE:20260216
DTSTAMP:20260421T202322
CREATED:20260108T112757Z
LAST-MODIFIED:20260122T115509Z
UID:10001270-1771113600-1771199999@koski.fi
SUMMARY:Laskiaisrieha 15.2.
DESCRIPTION:Koskella järjestetään perinteinen laskiaisrieha -tapahtuma yhdessä kunnan vapaa-aikapalveluiden ja paikallisten yhdistysten kanssa. Tänä vuonna luvassa on mäenlaskun ja hiihdon lisäksi makkaranpaistoa ja lumimaalausta. Tapahtuma on suunnattu kaikenikäisille ja se on maksuton.
URL:https://koski.fi/tapahtuma/laskiaisrieha-15-2/
LOCATION:Hevonlinnan ulkoilukeskus\, Huovintie 215\, Koski Tl\, 31500
CATEGORIES:Koski
ATTACH;FMTTYPE=image/jpeg:https://koski.fi/wp-content/uploads/2025/12/Katri17.jpg
END:VEVENT
END:VCALENDAR