BEGIN:VCALENDAR
VERSION:2.0
PRODID:-//Koski - ECPv6.15.20//NONSGML v1.0//EN
CALSCALE:GREGORIAN
METHOD:PUBLISH
X-ORIGINAL-URL:https://koski.fi
X-WR-CALDESC:Tapahtumat Koski
REFRESH-INTERVAL;VALUE=DURATION:PT1H
X-Robots-Tag:noindex
X-PUBLISHED-TTL:PT1H
BEGIN:VTIMEZONE
TZID:Europe/Helsinki
BEGIN:DAYLIGHT
TZOFFSETFROM:+0200
TZOFFSETTO:+0300
TZNAME:EEST
DTSTART:20250330T010000
END:DAYLIGHT
BEGIN:STANDARD
TZOFFSETFROM:+0300
TZOFFSETTO:+0200
TZNAME:EET
DTSTART:20251026T010000
END:STANDARD
BEGIN:DAYLIGHT
TZOFFSETFROM:+0200
TZOFFSETTO:+0300
TZNAME:EEST
DTSTART:20260329T010000
END:DAYLIGHT
BEGIN:STANDARD
TZOFFSETFROM:+0300
TZOFFSETTO:+0200
TZNAME:EET
DTSTART:20261025T010000
END:STANDARD
BEGIN:DAYLIGHT
TZOFFSETFROM:+0200
TZOFFSETTO:+0300
TZNAME:EEST
DTSTART:20270328T010000
END:DAYLIGHT
BEGIN:STANDARD
TZOFFSETFROM:+0300
TZOFFSETTO:+0200
TZNAME:EET
DTSTART:20271031T010000
END:STANDARD
END:VTIMEZONE
BEGIN:VEVENT
DTSTART;TZID=Europe/Helsinki:20260214T120000
DTEND;TZID=Europe/Helsinki:20260214T140000
DTSTAMP:20260421T184015
CREATED:20260205T140603Z
LAST-MODIFIED:20260205T140603Z
UID:10001287-1771070400-1771077600@koski.fi
SUMMARY:Ystävänpäivätapahtuma 14.2.
DESCRIPTION:Kosken Tl kunnan kulttuuripalvelut ja SPR Kosken TL osasto järjestävät POP-pankin auditoriossa tapahtuman johon kaikenikäiset ovat tervetulleita! Tapahtumaan on vapaa pääsy. \n  \n\n\nOhjelmassa: \n\n\nKahvia ja laskiaispullaa \n\n\nNallesairaala\, voit ottaa oman nallesi mukaan \n\n\nKello 13.00 Viulu-sello-duo Feria tunnelmoi rakkaudesta kertovalla musiikilla serenadeista elokuvamusiikkiin ja tangoihin \n  \n\n\nLämpimästi tervetuloa!
URL:https://koski.fi/tapahtuma/ystavanpaivatapahtuma-14-2/
LOCATION:Kosken Osuuspankin auditorio\, Hämeentie 14\, Koski Tl\, 31500
ATTACH;FMTTYPE=image/png:https://koski.fi/wp-content/uploads/2026/02/Tapahtumakalenteriin.png
END:VEVENT
END:VCALENDAR